BEGIN:VCALENDAR
VERSION:2.0
PRODID:-//eventon.com NONSGML v1.0//EN
CALSCALE:GREGORIAN
METHOD:PUBLISH
BEGIN:VEVENT
UID:69e73afeed329
DTSTAMP:20260421T085318Z
DTSTART:20191113T130000Z
DTEND:20191113T235000Z
LOCATION:P-plaats t.o. Meerweg 42 Meerweg 42
SUMMARY:Natuurexcursie - Oostmeerpolder-midden (13.00 uur)
DESCRIPTION:Meer informatie volgt\nhttps://degroenzoom.nl/events/natuurexcu
 rsie-nov-13-00-uur/
URL:https://degroenzoom.nl/events/natuurexcursie-nov-13-00-uur/
END:VEVENT
END:VCALENDAR