BEGIN:VCALENDAR
VERSION:2.0
PRODID:-//eventon.com NONSGML v1.0//EN
CALSCALE:GREGORIAN
METHOD:PUBLISH
BEGIN:VEVENT
UID:69e739a330447
DTSTAMP:20260421T084731Z
DTSTART:20250507T040000Z
DTEND:20250507T060000Z
LOCATION:P-plaats tegenover De Hichte\,  Kleihoogt 1\,  2651 KV Berkel en Rodenrijs Kleihoogt 1
SUMMARY:Natuurexcursie vogelzang - Voorafsche Polder
DESCRIPTION:Aanmelden via beheer@degroenzoom.nl\nhttps://degroenzoom.nl/eve
 nts/natuurexcursie-vogelzang-voorafsche-polder-3/
URL:https://degroenzoom.nl/events/natuurexcursie-vogelzang-voorafsche-polder-3/
END:VEVENT
END:VCALENDAR