BEGIN:VCALENDAR
VERSION:2.0
PRODID:-//eventon.com NONSGML v1.0//EN
CALSCALE:GREGORIAN
METHOD:PUBLISH
BEGIN:VEVENT
UID:69e9d93963788
DTSTAMP:20260423T083257Z
DTSTART:20230517T040000Z
DTEND:20230517T060000Z
LOCATION:P-plaats Microbenplaats\,  Berkel en Rodenrijs
SUMMARY:Natuurexcursie Oostmeerpolder-midden
DESCRIPTION:Aanmelden via beheer@degroenzoom.nl &nbsp;\nhttps://degroenzoom
 .nl/events/natuurexcursie-oostmeerpolder-midden/
URL:https://degroenzoom.nl/events/natuurexcursie-oostmeerpolder-midden/
END:VEVENT
END:VCALENDAR